BEGIN:VCALENDAR
VERSION:2.0
PRODID:-//Intand Corporation//Tandem//EN
METHOD:PUBLISH
BEGIN:VEVENT
DTSTAMP:20260419T232631Z
DTSTART:20260917T212000Z
DTEND:20260918T003000Z
TRANSP:TRANSPARENT
PRIORITY:0
SUMMARY:GHHS - Pool - GIRLS SWIM MEET VS CAPITAL
LOCATION:GHH - Swim Pool
DESCRIPTION:Groups:\nGHH Girls Swimming\n\nSchools:\nGig Harbor High\n\nLo
 cation:\nGHH - Swim Pool\n\n
URL;VALUE=URI:http://psd.tandem.co/index.php?type=view&action=event&id=208
 708
CREATED:20260129T221342Z
LAST-MODIFIED:20260330T214006Z
UID:event-208708-psdtest@intand.com
END:VEVENT
END:VCALENDAR
