BEGIN:VCALENDAR
VERSION:2.0
PRODID:-//Intand Corporation//Tandem//EN
METHOD:PUBLISH
BEGIN:VEVENT
DTSTAMP:20260419T171913Z
DTSTART:20260330T220000Z
DTEND:20260331T013000Z
TRANSP:TRANSPARENT
PRIORITY:0
SUMMARY:GHHS - BASEBALL FIELD - C TEAM GAME VS PHS
LOCATION:GHH - Baseball Field
DESCRIPTION:Groups:\nGHH C Baseball\n\nSchools:\nGig Harbor High\n\nLocati
 on:\nGHH - Baseball Field\n\n
URL;VALUE=URI:http://psd.tandem.co/index.php?type=view&action=event&id=209
 300
CREATED:20260206T201127Z
LAST-MODIFIED:20260309T164438Z
UID:event-209300-psdtest@intand.com
END:VEVENT
END:VCALENDAR
