BEGIN:VCALENDAR
VERSION:2.0
PRODID:-//Intand Corporation//Tandem//EN
METHOD:PUBLISH
BEGIN:VEVENT
DTSTAMP:20260419T171913Z
DTSTART:20260404T153000Z
DTEND:20260404T190000Z
TRANSP:TRANSPARENT
PRIORITY:0
SUMMARY:COM - GMS / Lower Field - GH Youth Lacrosse
LOCATION:GMS - Lower Field
DESCRIPTION:Groups:\nGig Harbor Lacrosse\n\nSchools:\nGoodman Middle Schoo
 l\n\nLocation:\nGMS - Lower Field\n\n
URL;VALUE=URI:http://psd.tandem.co/index.php?type=view&action=event&id=209
 378
CREATED:20260209T181746Z
LAST-MODIFIED:20260313T184438Z
UID:facility_rental-209378-psdtest@intand.com
END:VEVENT
END:VCALENDAR
