BEGIN:VCALENDAR
VERSION:2.0
PRODID:-//Intand Corporation//Tandem//EN
METHOD:PUBLISH
BEGIN:VEVENT
DTSTAMP:20260419T172020Z
DTSTART:20260404T000000Z
DTEND:20260404T030000Z
TRANSP:TRANSPARENT
PRIORITY:0
SUMMARY:COM - VES / Field - KPLL
LOCATION:VES - Field
DESCRIPTION:Groups:\nKey Peninsula Little League\n\nSchools:\nVaughn Eleme
 ntary\n\nLocation:\nVES - Field\n\n
URL;VALUE=URI:http://psd.tandem.co/index.php?type=view&action=event&id=209
 662
CREATED:20260210T175545Z
LAST-MODIFIED:20260210T175610Z
UID:facility_rental-209662-psdtest@intand.com
END:VEVENT
END:VCALENDAR
