BEGIN:VCALENDAR
VERSION:2.0
PRODID:-//Intand Corporation//Tandem//EN
METHOD:PUBLISH
BEGIN:VEVENT
DTSTAMP:20260419T172208Z
DTSTART:20260404T160000Z
DTEND:20260405T000000Z
TRANSP:TRANSPARENT
PRIORITY:0
SUMMARY:COM - PHS / RA / Peninsula Youth Lacrosse - games
LOCATION:PHS Roy Anderson Field
DESCRIPTION:Groups:\nPeninsula Lacrosse\n\nSchools:\nPeninsula High School
 \n\nLocation:\nPHS Roy Anderson Field\n\n
URL;VALUE=URI:http://psd.tandem.co/index.php?type=view&action=event&id=210
 363
CREATED:20260217T205455Z
LAST-MODIFIED:20260406T192102Z
UID:facility_rental-210363-psdtest@intand.com
END:VEVENT
END:VCALENDAR
