BEGIN:VCALENDAR
VERSION:2.0
PRODID:-//Intand Corporation//Tandem//EN
METHOD:PUBLISH
BEGIN:VEVENT
DTSTAMP:20260419T171821Z
DTSTART:20260331T030000Z
DTEND:20260331T040000Z
TRANSP:TRANSPARENT
PRIORITY:0
SUMMARY:[Cancelled] COM - GHHS / Field #2 - GH Lacrosse
LOCATION:GHH - Turf Fastpitch Field # 2
DESCRIPTION:Groups:\nGig Harbor Lacrosse\n\nSchools:\nGig Harbor High\n\nL
 ocation:\nGHH - Turf Fastpitch Field # 2\n\n
URL;VALUE=URI:http://psd.tandem.co/index.php?type=view&action=event&id=211
 018
CREATED:20260220T185558Z
LAST-MODIFIED:20260220T193105Z
UID:facility_rental-211018-psdtest@intand.com
END:VEVENT
END:VCALENDAR
