BEGIN:VCALENDAR
VERSION:2.0
PRODID:-//Intand Corporation//Tandem//EN
METHOD:PUBLISH
BEGIN:VEVENT
DTSTAMP:20260419T172208Z
DTSTART:20260401T013000Z
DTEND:20260401T040000Z
TRANSP:TRANSPARENT
PRIORITY:0
SUMMARY:COM - GMS / Band Room - Peninsula Community Chorus
LOCATION:GMS - Band Room
DESCRIPTION:Groups:\nPeninsula Community Chorus\n\nSchools:\nGoodman Middl
 e School\n\nLocation:\nGMS - Band Room\n\n
URL;VALUE=URI:http://psd.tandem.co/index.php?type=view&action=event&id=211
 674
CREATED:20260224T183442Z
LAST-MODIFIED:20260224T183442Z
UID:facility_rental-211674-psdtest@intand.com
END:VEVENT
END:VCALENDAR
