BEGIN:VCALENDAR
VERSION:2.0
PRODID:-//Intand Corporation//Tandem//EN
METHOD:PUBLISH
BEGIN:VEVENT
DTSTAMP:20260419T171818Z
DTSTART:20260404T013000Z
DTEND:20260404T030000Z
TRANSP:TRANSPARENT
PRIORITY:0
SUMMARY:[Cancelled] COM - GHHS / Baseball Field - GHLL
LOCATION:GHH - Baseball Field
DESCRIPTION:Groups:\nGig Harbor Little League\n\nSchools:\nGig Harbor High
 \n\nLocation:\nGHH - Baseball Field\n\n
URL;VALUE=URI:http://psd.tandem.co/index.php?type=view&action=event&id=211
 804
CREATED:20260225T182521Z
LAST-MODIFIED:20260401T212937Z
UID:facility_rental-211804-psdtest@intand.com
END:VEVENT
END:VCALENDAR
