BEGIN:VCALENDAR
VERSION:2.0
PRODID:-//Intand Corporation//Tandem//EN
METHOD:PUBLISH
BEGIN:VEVENT
DTSTAMP:20260419T172042Z
DTSTART:20260403T010000Z
DTEND:20260403T030000Z
TRANSP:TRANSPARENT
PRIORITY:0
SUMMARY:[Cancelled] COM - GHHS / Aux Gym - Narrows Elite Basketball 
LOCATION:GHH - Auxiliary Gym
DESCRIPTION:Groups:\nNarrows Elite Basketball\n\nSchools:\nGig Harbor High
 \n\nLocation:\nGHH - Auxiliary Gym\n\n
URL;VALUE=URI:http://psd.tandem.co/index.php?type=view&action=event&id=212
 176
CREATED:20260227T195714Z
LAST-MODIFIED:20260320T213718Z
UID:facility_rental-212176-psdtest@intand.com
END:VEVENT
END:VCALENDAR
