BEGIN:VCALENDAR
VERSION:2.0
PRODID:-//Intand Corporation//Tandem//EN
METHOD:PUBLISH
BEGIN:VEVENT
DTSTAMP:20260419T172043Z
DTSTART:20260401T000000Z
DTEND:20260401T013000Z
TRANSP:TRANSPARENT
PRIORITY:0
SUMMARY:COM - DES / Back Field - GH Youth Lacrosse
LOCATION:DES - Field - Back
DESCRIPTION:Groups:\nGig Harbor Lacrosse\n\nSchools:\nDiscovery Elementary
 \n\nLocation:\nDES - Field - Back\n\n
URL;VALUE=URI:http://psd.tandem.co/index.php?type=view&action=event&id=212
 215
CREATED:20260302T194758Z
LAST-MODIFIED:20260302T194843Z
UID:facility_rental-212215-psdtest@intand.com
END:VEVENT
END:VCALENDAR
