BEGIN:VCALENDAR
VERSION:2.0
PRODID:-//Intand Corporation//Tandem//EN
METHOD:PUBLISH
BEGIN:VEVENT
DTSTAMP:20260419T172139Z
DTSTART:20260401T013000Z
DTEND:20260401T033000Z
TRANSP:TRANSPARENT
PRIORITY:0
SUMMARY:[Cancelled] COM - GHHS / Pool - New Wave Swim Foundation
LOCATION:GHH - Swim Pool
DESCRIPTION:Groups:\nNew Wave Swim Foundation\n\nSchools:\nGig Harbor High
 \n\nLocation:\nGHH - Swim Pool\n\n
URL;VALUE=URI:http://psd.tandem.co/index.php?type=view&action=event&id=212
 254
CREATED:20260302T224816Z
LAST-MODIFIED:20260320T182436Z
UID:facility_rental-212254-psdtest@intand.com
END:VEVENT
END:VCALENDAR
