BEGIN:VCALENDAR
VERSION:2.0
PRODID:-//Intand Corporation//Tandem//EN
METHOD:PUBLISH
BEGIN:VEVENT
DTSTAMP:20260419T172138Z
DTSTART:20260403T020000Z
DTEND:20260403T040000Z
TRANSP:TRANSPARENT
PRIORITY:0
SUMMARY:COM - PHS / Pool - Narrows Aquatics
LOCATION:PHS - Pool
DESCRIPTION:Groups:\nNarrows Aquatics Association\n\nSchools:\nPeninsula H
 igh School\n\nLocation:\nPHS - Pool\n\n
URL;VALUE=URI:http://psd.tandem.co/index.php?type=view&action=event&id=212
 274
CREATED:20260302T225153Z
LAST-MODIFIED:20260302T225209Z
UID:facility_rental-212274-psdtest@intand.com
END:VEVENT
END:VCALENDAR
