BEGIN:VCALENDAR
VERSION:2.0
PRODID:-//Intand Corporation//Tandem//EN
METHOD:PUBLISH
BEGIN:VEVENT
DTSTAMP:20260419T171822Z
DTSTART:20260401T223000Z
DTEND:20260402T000000Z
TRANSP:TRANSPARENT
PRIORITY:0
SUMMARY:COM - PES / Field Field - Girls on the Run
LOCATION:PES - Lower Field
DESCRIPTION:Groups:\nGirls on the Run\n\nSchools:\nPurdy Elementary\n\nLoc
 ation:\nPES - Lower Field\n\n
URL;VALUE=URI:http://psd.tandem.co/index.php?type=view&action=event&id=212
 367
CREATED:20260304T211425Z
LAST-MODIFIED:20260304T211455Z
UID:facility_rental-212367-psdtest@intand.com
END:VEVENT
END:VCALENDAR
