BEGIN:VCALENDAR
VERSION:2.0
PRODID:-//Intand Corporation//Tandem//EN
METHOD:PUBLISH
BEGIN:VEVENT
DTSTAMP:20260419T203048Z
DTSTART:20260623T150000Z
DTEND:20260623T183000Z
TRANSP:TRANSPARENT
PRIORITY:0
SUMMARY:EOY Awards Assembly (TBD)
LOCATION:Goodman Middle School
DESCRIPTION:EOY Awards Assembly (TBD)\n\n\nSchools:\nGoodman Middle School
 \n\nLocation:\nGoodman Middle School\n\n
URL;VALUE=URI:http://psd.tandem.co/index.php?type=view&action=event&id=214
 255
CREATED:20260325T181727Z
LAST-MODIFIED:20260325T181727Z
UID:event-214255-psdtest@intand.com
END:VEVENT
END:VCALENDAR
