BEGIN:VCALENDAR
VERSION:2.0
PRODID:-//Intand Corporation//Tandem//EN
METHOD:PUBLISH
BEGIN:VEVENT
DTSTAMP:20260419T171206Z
DTSTART:20260424T140000Z
DTEND:20260425T020000Z
TRANSP:TRANSPARENT
PRIORITY:0
SUMMARY:HHE Field Day
LOCATION:Harbor Heights Elementary School
DESCRIPTION:Schools:\nHarbor Heights Elementary\n\nLocation:\nHarbor Heigh
 ts Elementary School\n\n
URL;VALUE=URI:http://psd.tandem.co/index.php?type=view&action=event&id=215
 027
CREATED:20260410T195920Z
LAST-MODIFIED:20260410T200428Z
UID:event_request-215027-psdtest@intand.com
END:VEVENT
END:VCALENDAR
