BEGIN:VCALENDAR
VERSION:2.0
PRODID:-//Intand Corporation//Tandem//EN
METHOD:PUBLISH
BEGIN:VEVENT
DTSTAMP:20260419T232016Z
DTSTART:20260615T213000Z
DTEND:20260616T003000Z
TRANSP:TRANSPARENT
PRIORITY:0
SUMMARY:PHS- @ R.A. Football Spring Tryouts/Training
LOCATION:PHS Roy Anderson Field
DESCRIPTION:Groups:\nPHS Football\n\nSchools:\nPeninsula High School\n\nLo
 cation:\nPHS Roy Anderson Field\n\n
URL;VALUE=URI:http://psd.tandem.co/index.php?type=view&action=event&id=215
 107
CREATED:20260410T214838Z
LAST-MODIFIED:20260410T214838Z
UID:event-215107-psdtest@intand.com
END:VEVENT
END:VCALENDAR
