BEGIN:VCALENDAR
VERSION:2.0
PRODID:-//Intand Corporation//Tandem//EN
METHOD:PUBLISH
BEGIN:VEVENT
DTSTAMP:20260419T171206Z
DTSTART:20260425T000000Z
DTEND:20260425T013000Z
TRANSP:TRANSPARENT
PRIORITY:0
SUMMARY:COM - PHS / Upper Grass Field - Peninsula Youth Lacrosse
LOCATION:PHS - Upper Grass Soccer Field
DESCRIPTION:Groups:\nPeninsula Lacrosse\n\nSchools:\nPeninsula High School
 \n\nLocation:\nPHS - Upper Grass Soccer Field\n\n
URL;VALUE=URI:http://psd.tandem.co/index.php?type=view&action=event&id=215
 266
CREATED:20260415T223314Z
LAST-MODIFIED:20260415T223327Z
UID:facility_rental-215266-psdtest@intand.com
END:VEVENT
END:VCALENDAR
